BEGIN:VCALENDAR
VERSION:2.0
PRODID:-//wp-events-plugin.com//5.55//EN
BEGIN:VEVENT
UID:4675d3de-b529-4e59-bf45-96e103408c9f
DTSTART:20260514T233000Z
DTEND:20260514T233000Z
DTSTAMP:20260422T140327Z
SUMMARY:Young Ladies Shavuot Flower Workshop
DESCRIPTION:\n\n\nSpring is in full bloom  and so are we!\n\n\n\n\nEnjoy a guided floral design experience and craft a beautiful arrangement to bring home as we prepare for Shavuot when flowers miraculously blossomed on the mountain for the giving of the Torah.\n\n\nCome create something beautiful\, meaningful\, and rooted in tradition.\n\n\nDelve into the story of Ruth and uncover deeper meaning within the holiday of Shavuot.\n\n\n\n\nWine and Cheese will be served\n\n\n$25Thursday May 147:30 PM\n
LOCATION:YJP Event Space\, 20 Chapel St\, Brookline\, MA\, 02446\, United States
URL:https://www.yjpboston.org/events/ladiesworkshop/
END:VEVENT
END:VCALENDAR